BEGIN:VCALENDAR
VERSION:2.0
PRODID:-//ncaied.org//NONSGML kigkonsult.se iCalcreator 2.30.10//
CALSCALE:GREGORIAN
METHOD:PUBLISH
UID:d6906943-de9a-4191-902f-a333edcdb6c2
X-WR-CALDESC:
X-WR-RELCALID:04b5611b13699392b1f4120a1cf803f8
X-WR-TIMEZONE:America/Chicago
BEGIN:VTIMEZONE
TZID:America/Chicago
BEGIN:STANDARD
TZNAME:CST
DTSTART:20241103T020000
TZOFFSETFROM:-0500
TZOFFSETTO:-0600
RDATE:20251102T020000
RDATE:20261101T020000
END:STANDARD
BEGIN:DAYLIGHT
TZNAME:CDT
DTSTART:20250309T020000
TZOFFSETFROM:-0600
TZOFFSETTO:-0500
RDATE:20260308T020000
END:DAYLIGHT
END:VTIMEZONE
BEGIN:VEVENT
UID:7ba57601-a32e-47f8-b300-ded80866d19e
DTSTAMP:20260421T082716Z
DESCRIPTION:
DTSTART;TZID=America/Chicago:20250513T050000
DTEND;TZID=America/Chicago:20250513T050001
LOCATION:
SUMMARY:ONABEN Webinar: The DoD Mentor Protégé Program
END:VEVENT
END:VCALENDAR
